BEGIN:VCALENDAR
VERSION:2.0
PRODID:-//Belmont Literary &amp; Historical Society Free Library - ECPv6.15.17//NONSGML v1.0//EN
CALSCALE:GREGORIAN
METHOD:PUBLISH
X-WR-CALNAME:Belmont Literary &amp; Historical Society Free Library
X-ORIGINAL-URL:https://belmontfreelibrary.org
X-WR-CALDESC:Events for Belmont Literary &amp; Historical Society Free Library
REFRESH-INTERVAL;VALUE=DURATION:PT1H
X-Robots-Tag:noindex
X-PUBLISHED-TTL:PT1H
BEGIN:VTIMEZONE
TZID:America/New_York
BEGIN:DAYLIGHT
TZOFFSETFROM:-0500
TZOFFSETTO:-0400
TZNAME:EDT
DTSTART:20250309T070000
END:DAYLIGHT
BEGIN:STANDARD
TZOFFSETFROM:-0400
TZOFFSETTO:-0500
TZNAME:EST
DTSTART:20251102T060000
END:STANDARD
BEGIN:DAYLIGHT
TZOFFSETFROM:-0500
TZOFFSETTO:-0400
TZNAME:EDT
DTSTART:20260308T070000
END:DAYLIGHT
BEGIN:STANDARD
TZOFFSETFROM:-0400
TZOFFSETTO:-0500
TZNAME:EST
DTSTART:20261101T060000
END:STANDARD
BEGIN:DAYLIGHT
TZOFFSETFROM:-0500
TZOFFSETTO:-0400
TZNAME:EDT
DTSTART:20270314T070000
END:DAYLIGHT
BEGIN:STANDARD
TZOFFSETFROM:-0400
TZOFFSETTO:-0500
TZNAME:EST
DTSTART:20271107T060000
END:STANDARD
END:VTIMEZONE
BEGIN:VEVENT
DTSTART;TZID=America/New_York:20260216T080000
DTEND;TZID=America/New_York:20260216T170000
DTSTAMP:20260420T063930
CREATED:20251216T215253Z
LAST-MODIFIED:20251216T215253Z
UID:2003-1771228800-1771261200@belmontfreelibrary.org
SUMMARY:Library Closed
DESCRIPTION:
URL:https://belmontfreelibrary.org/event/library-closed-2/
CATEGORIES:Library Closure
ATTACH;FMTTYPE=image/png:https://belmontfreelibrary.org/wp-content/uploads/2025/12/Holiday-Closing.png
END:VEVENT
BEGIN:VEVENT
DTSTART;VALUE=DATE:20260119
DTEND;VALUE=DATE:20260120
DTSTAMP:20260420T063930
CREATED:20251216T215228Z
LAST-MODIFIED:20251216T215228Z
UID:2000-1768780800-1768867199@belmontfreelibrary.org
SUMMARY:Library Closed
DESCRIPTION:
URL:https://belmontfreelibrary.org/event/library-closed/
CATEGORIES:Library Closure
ATTACH;FMTTYPE=image/png:https://belmontfreelibrary.org/wp-content/uploads/2025/12/Holiday-Closing.png
END:VEVENT
BEGIN:VEVENT
DTSTART;VALUE=DATE:20260101
DTEND;VALUE=DATE:20260102
DTSTAMP:20260420T063930
CREATED:20250825T192608Z
LAST-MODIFIED:20251124T162935Z
UID:1809-1767225600-1767311999@belmontfreelibrary.org
SUMMARY:Library Closing
DESCRIPTION:Library the library will be closed on the following dates for the holidays. \nDecember 25th and 26th\nJanuary 1st
URL:https://belmontfreelibrary.org/event/library-closing-1/
CATEGORIES:Library Closure
END:VEVENT
END:VCALENDAR